BEGIN:VCALENDAR
VERSION:2.0
PRODID:-//hacksw/handcal//NONSGML v1.0//EN
BEGIN:VEVENT
UID:c1e96bc4340cff2bb595903ce6b39a68
DTSTAMP:20260421T165427Z

DTSTART:20241013T204500
DTEND:20241013T204500
SUMMARY:Grand Prix Redbullringu
DESCRIPTION:Red Bull Ring (dříve A1 Ring, ještě dříve Österreichring) je závodní okruh, nacházející se poblíž Spielbergu ve Štýrsku v Rakousku. Původní název okruhu byl Österreichring, později byl zkrácen a přejmenován na A1 Ring. Nejčastěji hostil závody seriálu Formule 1 v letech 1970 až 1987 a jako nově opravený okruh v letech 1997 až 2003.\nV roce 2004 byly strženy tribuny. Ve stejném roce okruh odkoupila společnost Red Bull, která ho v letech 2008 až 2009 zrekonstruovala za 70 mil €. V září 2010 byl potvrzen pro konání závodu DTM v následujícím roce, v listopadu 2010 se tam uskutečnil 6. závod sezony Formule 2.V současnosti nejčastěji hostí sérii DTM. V červenci roku 2013 se rozhodlo, že Red Bull Ring bude zařazen do kalendáře Formule 1 pro rok 2014, závod se uskutečnil 22. června 2014 a vyhrál jej Nico Rosberg na Mercedesu.

X-ALT-DESC;FMTTYPE=text/html:<!DOCTYPE HTML PUBLIC "-//W3C//DTD HTML 3.2//EN">\n<HTML>\n<HEAD>\n<META NAME="Generator" CONTENT="MS Exchange Server version 08.00.0681.000">\n<TITLE></TITLE>\n</HEAD>\n<BODY>\n<!-- Converted from text/rtf format -->\n\n<p>Red Bull Ring (dříve A1 Ring, ještě dříve Österreichring) je závodní okruh, nacházející se poblíž Spielbergu ve Štýrsku v Rakousku. Původní název okruhu byl Österreichring, později byl zkrácen a přejmenován na A1 Ring. Nejčastěji hostil závody seriálu Formule 1 v letech 1970 až 1987 a jako nově opravený okruh v letech 1997 až 2003.</p><br /><p>V roce 2004 byly strženy tribuny. Ve stejném roce okruh odkoupila společnost Red Bull, která ho v letech 2008 až 2009 zrekonstruovala za 70 mil €. V září 2010 byl potvrzen pro konání závodu DTM v následujícím roce, v listopadu 2010 se tam uskutečnil 6. závod sezony Formule 2.V současnosti nejčastěji hostí sérii DTM. V červenci roku 2013 se rozhodlo, že Red Bull Ring bude zařazen do kalendáře Formule 1 pro rok 2014, závod se uskutečnil 22. června 2014 a vyhrál jej Nico Rosberg na Mercedesu.</p>\n\n</BODY>\n</HTML>

LOCATION:
END:VEVENT

END:VCALENDAR
