BEGIN:VCALENDAR
VERSION:2.0
PRODID:-//hacksw/handcal//NONSGML v1.0//EN
BEGIN:VEVENT
UID:2eaf3e2b9a53cf7e2fefa44338830040
DTSTAMP:20260421T170003Z

DTSTART:20241020T204000
DTEND:20241020T204000
SUMMARY:Grand Prix Imoly
DESCRIPTION:Autodromo Enzo e Dino Ferrari je automobilový okruh situovaný ve městě Imola, které se nachází v provincii Bologna. Okruh nese jméno Enza Ferrariho, zakladatele stejnojmenné automobilky a jeho syna Dina. Před smrtí Enza Ferrariho v roce 1988 byl pojmenován Autodromo Dino Ferrari.\n21. dubna 1963 se na okruhu poprvé představila Formule 1, i když se jednal pouze o závody nezapočítávané do mistrovství světa. Tehdy zvítězil Jim Clark na voze Lotus. Od roku 1970 autodrom nese jméno Dina Ferrariho, syna Enza Ferrariho, který předčasně zesnul v padesátých letech. Stalo se tak dva roky po zásadních změnách na trati, při kterých vznikly Variante Bassa a Variante Alta. Konečně v roce 1979, přesně 16. září, v závodě nazvaném Grand Prix Dino Ferrari, začíná nová éra formule 1 na okruhu v Imole. Následující rok 14. září 1980, Imola hostí svůj první plnohodnotný závod formule 1: Grand Prix Itálie. Další rok se Velká cena vrací na okruh v Monze a Imola se stává sídlem Grand Prix San Marina.

X-ALT-DESC;FMTTYPE=text/html:<!DOCTYPE HTML PUBLIC "-//W3C//DTD HTML 3.2//EN">\n<HTML>\n<HEAD>\n<META NAME="Generator" CONTENT="MS Exchange Server version 08.00.0681.000">\n<TITLE></TITLE>\n</HEAD>\n<BODY>\n<!-- Converted from text/rtf format -->\n\n<p>Autodromo Enzo e Dino Ferrari je automobilový okruh situovaný ve městě Imola, které se nachází v provincii Bologna. Okruh nese jméno Enza Ferrariho, zakladatele stejnojmenné automobilky a jeho syna Dina. Před smrtí Enza Ferrariho v roce 1988 byl pojmenován Autodromo Dino Ferrari.</p><br /><p>21. dubna 1963 se na okruhu poprvé představila Formule 1, i když se jednal pouze o závody nezapočítávané do mistrovství světa. Tehdy zvítězil Jim Clark na voze Lotus. Od roku 1970 autodrom nese jméno Dina Ferrariho, syna Enza Ferrariho, který předčasně zesnul v padesátých letech. Stalo se tak dva roky po zásadních změnách na trati, při kterých vznikly Variante Bassa a Variante Alta. Konečně v roce 1979, přesně 16. září, v závodě nazvaném Grand Prix Dino Ferrari, začíná nová éra formule 1 na okruhu v Imole. Následující rok 14. září 1980, Imola hostí svůj první plnohodnotný závod formule 1: Grand Prix Itálie. Další rok se Velká cena vrací na okruh v Monze a Imola se stává sídlem Grand Prix San Marina.</p>\n\n</BODY>\n</HTML>

LOCATION:
END:VEVENT

END:VCALENDAR
