BEGIN:VCALENDAR
VERSION:2.0
PRODID:-//hacksw/handcal//NONSGML v1.0//EN
BEGIN:VEVENT
UID:dab83f25d8357048eaa754badc9306e5
DTSTAMP:20260421T153803Z

DTSTART:20241103T204000
DTEND:20241103T204000
SUMMARY:Grand Prix Silverstone
DESCRIPTION:Závodní okruh Silverstone leží v Anglii v oblasti Northamptonshire, v areálu starého vojenského letiště. Letiště bylo postaveno za druhé světové války jako letecká základna pro britské a americké bombardéry. Zatímco po válce mnoho základen postupně zaniklo, Silverstone začal vzkvétat díky několika motoristickým nadšencům, kteří tu nalezli ideální závodní dráhu. První velká cena se tu jela v roce 1948 a zvítězil v ní Luigi Villoresi na Maserati a i následující rok triumfoval vůz Maserati, tentokrát s Toulo de Graffenriedem. V roce 1950 se tu jela první velká cena v rámci mistrovství světa a zvítězil v ní Giuseppe Farina na Alfě Romeo. Od roku 1951 až do roku 1958 vždy zvítězil pilot s vozem Ferrari. Nejvíce výher má Lewis Hamilton.

X-ALT-DESC;FMTTYPE=text/html:<!DOCTYPE HTML PUBLIC "-//W3C//DTD HTML 3.2//EN">\n<HTML>\n<HEAD>\n<META NAME="Generator" CONTENT="MS Exchange Server version 08.00.0681.000">\n<TITLE></TITLE>\n</HEAD>\n<BODY>\n<!-- Converted from text/rtf format -->\n\n<p>Závodní okruh Silverstone leží v Anglii v oblasti Northamptonshire, v areálu starého vojenského letiště. Letiště bylo postaveno za druhé světové války jako letecká základna pro britské a americké bombardéry. Zatímco po válce mnoho základen postupně zaniklo, Silverstone začal vzkvétat díky několika motoristickým nadšencům, kteří tu nalezli ideální závodní dráhu. První velká cena se tu jela v roce 1948 a zvítězil v ní Luigi Villoresi na Maserati a i následující rok triumfoval vůz Maserati, tentokrát s Toulo de Graffenriedem. V roce 1950 se tu jela první velká cena v rámci mistrovství světa a zvítězil v ní Giuseppe Farina na Alfě Romeo. Od roku 1951 až do roku 1958 vždy zvítězil pilot s vozem Ferrari. Nejvíce výher má Lewis Hamilton.</p>\n\n</BODY>\n</HTML>

LOCATION:
END:VEVENT

END:VCALENDAR
