BEGIN:VCALENDAR
VERSION:2.0
PRODID:-//hacksw/handcal//NONSGML v1.0//EN
BEGIN:VEVENT
UID:35edcb6cfb61339f89139cfdf40919a8
DTSTAMP:20260421T153012Z

DTSTART:20241117T204000
DTEND:20241117T204000
SUMMARY:Grand Prix Monako
DESCRIPTION:Velká cena Monaka je závod Formule 1 konaný na okruhu Circuit de Monaco. Jezdí se 78 kol po 3 340 m (celkově 260,5 km). Koná se každoročně koncem května od roku 1929, v roce 1950 se stal součástí mistrovství světa Formule 1. Je to nejpomalejší závod seriálu, bývá kritizován pro nízkou sportovní hodnotu: úzká trať téměř neumožňuje předjíždění. Kritickým momentem je také výjezd z tunelu, při němž jsou závodníci oslněni a mohou ztratit kontrolu nad vozem.\nNelson Piquet řekl: „Automobilové závody v Monaku jsou jako ježdění na kole po obýváku.“ Závod má však svoji pozici v seriálu jistou díky tradici a velkému zájmu diváků, velká cena je společenskou událostí mezinárodní smetánky. Zdejší raritou je také to, že pátek je volným dnem a tréninky se jezdí už ve čtvrtek.

X-ALT-DESC;FMTTYPE=text/html:<!DOCTYPE HTML PUBLIC "-//W3C//DTD HTML 3.2//EN">\n<HTML>\n<HEAD>\n<META NAME="Generator" CONTENT="MS Exchange Server version 08.00.0681.000">\n<TITLE></TITLE>\n</HEAD>\n<BODY>\n<!-- Converted from text/rtf format -->\n\n<p>Velká cena Monaka je závod Formule 1 konaný na okruhu Circuit de Monaco. Jezdí se 78 kol po 3 340 m (celkově 260,5 km). Koná se každoročně koncem května od roku 1929, v roce 1950 se stal součástí mistrovství světa Formule 1. Je to nejpomalejší závod seriálu, bývá kritizován pro nízkou sportovní hodnotu: úzká trať téměř neumožňuje předjíždění. Kritickým momentem je také výjezd z tunelu, při němž jsou závodníci oslněni a mohou ztratit kontrolu nad vozem.</p><br /><p>Nelson Piquet řekl: „Automobilové závody v Monaku jsou jako ježdění na kole po obýváku.“ Závod má však svoji pozici v seriálu jistou díky tradici a velkému zájmu diváků, velká cena je společenskou událostí mezinárodní smetánky. Zdejší raritou je také to, že pátek je volným dnem a tréninky se jezdí už ve čtvrtek.</p>\n\n</BODY>\n</HTML>

LOCATION:
END:VEVENT

END:VCALENDAR
