BEGIN:VCALENDAR
VERSION:2.0
PRODID:-//hacksw/handcal//NONSGML v1.0//EN
BEGIN:VEVENT
UID:73ecc82a8b4f07907dddbd0ef222cd7f
DTSTAMP:20260421T153141Z

DTSTART:20241201T204000
DTEND:20241201T204000
SUMMARY:Grand Prix Spa Francorchamps
DESCRIPTION:Grand Prix Belgie (nizozemsky: Grote Prijs van België; francouzsky: Grand Prix de Belgique; německy: Großer Preis von Belgien, anglicky: Belgian Grand Prix) je jedním ze závodů mistrovství světa vozů Formule 1, pořádané Mezinárodní automobilovou federací. Tradičním termínem je měsíc září a místem je trať Circuit de Spa-Francorchamps nedaleko města Spa ve východní části země, v pohoří Ardeny. Jinými místy, kde se závod pořádal, byly Zolder, Nivelles a Bois de la Cambre.\nPro rok 2007 byla postavena nová pit lane a budovy pro celý paddock, známá pasáž Bus Stop byla přestavěna včetně nájezdu do cílové rovinky. Během předchozích let došlo k velkému množství úprav trati a také k jejímu zkrácení na současných 7004 m. V současnosti je to rychlá a kopcovitá trať vedoucí Ardenami, kde se rychlosti často vyšplhávají až k hodnotě 330 km/h. Již od počátků zdejších závodů vešlo Spa-francorchamps ve známost také díky svému nevyzpytatelnému a proměnlivému počasí. Může mimo jiné nastat situace, kdy je jedna část tratě suchá, zatímco v jiné části může pršet. Fanoušci a jezdci mají rádi zdejší závody. Nudný závod je zde velmi vzácný, většina současných jezdců říká, že společně s japonskou Suzukou představuje jednu z největších výzev pro piloty na celém světě. Samotné Spa-Francorchamps demonstruje důležitost zručnosti jezdců více, než kterýkoli jiný okruh. Dokazují to především zatáčky Eau Rouge a Blanchimont. Obě dvě se totiž musí projet velmi prudce, aby se povedl výjezd na následující dlouhé rovinky, který jezdcům napomáhá k výslednému času kola a předjíždění.

X-ALT-DESC;FMTTYPE=text/html:<!DOCTYPE HTML PUBLIC "-//W3C//DTD HTML 3.2//EN">\n<HTML>\n<HEAD>\n<META NAME="Generator" CONTENT="MS Exchange Server version 08.00.0681.000">\n<TITLE></TITLE>\n</HEAD>\n<BODY>\n<!-- Converted from text/rtf format -->\n\n<p>Grand Prix Belgie (nizozemsky: Grote Prijs van België; francouzsky: Grand Prix de Belgique; německy: Großer Preis von Belgien, anglicky: Belgian Grand Prix) je jedním ze závodů mistrovství světa vozů Formule 1, pořádané Mezinárodní automobilovou federací. Tradičním termínem je měsíc září a místem je trať Circuit de Spa-Francorchamps nedaleko města Spa ve východní části země, v pohoří Ardeny. Jinými místy, kde se závod pořádal, byly Zolder, Nivelles a Bois de la Cambre.</p><br /><p>Pro rok 2007 byla postavena nová pit lane a budovy pro celý paddock, známá pasáž Bus Stop byla přestavěna včetně nájezdu do cílové rovinky. Během předchozích let došlo k velkému množství úprav trati a také k jejímu zkrácení na současných 7004 m. V současnosti je to rychlá a kopcovitá trať vedoucí Ardenami, kde se rychlosti často vyšplhávají až k hodnotě 330 km/h. Již od počátků zdejších závodů vešlo Spa-francorchamps ve známost také díky svému nevyzpytatelnému a proměnlivému počasí. Může mimo jiné nastat situace, kdy je jedna část tratě suchá, zatímco v jiné části může pršet. Fanoušci a jezdci mají rádi zdejší závody. Nudný závod je zde velmi vzácný, většina současných jezdců říká, že společně s japonskou Suzukou představuje jednu z největších výzev pro piloty na celém světě. Samotné Spa-Francorchamps demonstruje důležitost zručnosti jezdců více, než kterýkoli jiný okruh. Dokazují to především zatáčky Eau Rouge a Blanchimont. Obě dvě se totiž musí projet velmi prudce, aby se povedl výjezd na následující dlouhé rovinky, který jezdcům napomáhá k výslednému času kola a předjíždění.</p>\n\n</BODY>\n</HTML>

LOCATION:
END:VEVENT

END:VCALENDAR
