BEGIN:VCALENDAR
VERSION:2.0
PRODID:-//hacksw/handcal//NONSGML v1.0//EN
BEGIN:VEVENT
UID:bcc4710263af51e58fb8e97c916e3d1b
DTSTAMP:20260421T153012Z

DTSTART:20241215T204000
DTEND:20241215T204000
SUMMARY:Grand Prix Montreal
DESCRIPTION:Grand Prix Kanady (francouzsky: Grand Prix du Canada, anglicky: Canadian Grand Prix) je jedním ze závodů mistrovství světa vozů Formule 1, pořádané Mezinárodní automobilovou federací. Místem konání je od roku 1982 okruh Gillese Villeneuva v Montréalu v kanadské provincii Québec.\nV roce 2022 jej nahradila neznámá a fiktivní trať Heart Lake Complex na které se měl jet šampionát Formula Super. Díky problémům na lize a s počtem jezdců se závod zrušil a v roce 2023 se vrací klasický Montreal do kalendáře Formula Super.

X-ALT-DESC;FMTTYPE=text/html:<!DOCTYPE HTML PUBLIC "-//W3C//DTD HTML 3.2//EN">\n<HTML>\n<HEAD>\n<META NAME="Generator" CONTENT="MS Exchange Server version 08.00.0681.000">\n<TITLE></TITLE>\n</HEAD>\n<BODY>\n<!-- Converted from text/rtf format -->\n\n<p>Grand Prix Kanady (francouzsky: Grand Prix du Canada, anglicky: Canadian Grand Prix) je jedním ze závodů mistrovství světa vozů Formule 1, pořádané Mezinárodní automobilovou federací. Místem konání je od roku 1982 okruh Gillese Villeneuva v Montréalu v kanadské provincii Québec.</p><br /><p>V roce 2022 jej nahradila neznámá a fiktivní trať Heart Lake Complex na které se měl jet šampionát Formula Super. Díky problémům na lize a s počtem jezdců se závod zrušil a v roce 2023 se vrací klasický Montreal do kalendáře Formula Super.</p>\n\n</BODY>\n</HTML>

LOCATION:
END:VEVENT

END:VCALENDAR
