BEGIN:VCALENDAR
VERSION:2.0
PRODID:-//hacksw/handcal//NONSGML v1.0//EN
BEGIN:VEVENT
UID:65f65ac2a6738dd1a0022b711e46e63d
DTSTAMP:20260421T153822Z

DTSTART:20250105T204000
DTEND:20250105T204000
SUMMARY:Grand Prix Monza
DESCRIPTION:První Grand Prix Itálie se uskutečnila 4. září 1921 v Montichiari v provincii Brescia na okruhu využívající běžné silnice. Následující rok byl vybudován okruh Autodromo Nazionale Monza a od tohoto momentu je krom čtyř ročníků využíván nepřetržitě (1937, 1947, 1948 a 1980).\nV roce 1928 došlo během závodu k vážné nehodě: pilot Emilio Materassi ztratil kontrolu nad svým vozem v rychlosti kolem 300 km/h a vlétl mezi diváky, při nehodě zemřelo 30 lidí. V důsledku této nehody se v dalších dvou letech Grand Prix Itálie neuskutečnila. V roce 1937 se závodilo na okruhu Circuito di Montenero v Livornu, aby se následující rok vrátil zpět do Monzy jako poslední Grand Prix Itálie před druhou světovou válkou. Po válce se Grand Prix Itálie pořádala až v roce 1947: okruh v Monze ještě nebyl zcela renovován, a proto se toho roku závodilo v Miláně a v roce 1948 na okruhu Valentino Park v Turíně. Od roku 1949 se Grand Prix Itálie vrátila na okruh v Monze. V roce 1980 se z důvodu prací na bezpečnosti okruhu uskutečnila Grand Prix Itálie na okruhu Autodromo Enzo e Dino Ferrari v Imole. Následující rok se do Monzy vozy formule 1 znovu vrátily a Monza je součásti kalendáře do dnešního dne.

X-ALT-DESC;FMTTYPE=text/html:<!DOCTYPE HTML PUBLIC "-//W3C//DTD HTML 3.2//EN">\n<HTML>\n<HEAD>\n<META NAME="Generator" CONTENT="MS Exchange Server version 08.00.0681.000">\n<TITLE></TITLE>\n</HEAD>\n<BODY>\n<!-- Converted from text/rtf format -->\n\n<p>První Grand Prix Itálie se uskutečnila 4. září 1921 v Montichiari v provincii Brescia na okruhu využívající běžné silnice. Následující rok byl vybudován okruh Autodromo Nazionale Monza a od tohoto momentu je krom čtyř ročníků využíván nepřetržitě (1937, 1947, 1948 a 1980).</p><br /><p>V roce 1928 došlo během závodu k vážné nehodě: pilot Emilio Materassi ztratil kontrolu nad svým vozem v rychlosti kolem 300 km/h a vlétl mezi diváky, při nehodě zemřelo 30 lidí. V důsledku této nehody se v dalších dvou letech Grand Prix Itálie neuskutečnila. V roce 1937 se závodilo na okruhu Circuito di Montenero v Livornu, aby se následující rok vrátil zpět do Monzy jako poslední Grand Prix Itálie před druhou světovou válkou. Po válce se Grand Prix Itálie pořádala až v roce 1947: okruh v Monze ještě nebyl zcela renovován, a proto se toho roku závodilo v Miláně a v roce 1948 na okruhu Valentino Park v Turíně. Od roku 1949 se Grand Prix Itálie vrátila na okruh v Monze. V roce 1980 se z důvodu prací na bezpečnosti okruhu uskutečnila Grand Prix Itálie na okruhu Autodromo Enzo e Dino Ferrari v Imole. Následující rok se do Monzy vozy formule 1 znovu vrátily a Monza je součásti kalendáře do dnešního dne.</p>\n\n</BODY>\n</HTML>

LOCATION:
END:VEVENT

END:VCALENDAR
