BEGIN:VCALENDAR
VERSION:2.0
PRODID:-//hacksw/handcal//NONSGML v1.0//EN
BEGIN:VEVENT
UID:55862da12250dd0e5c47c92c3559c669
DTSTAMP:20260421T153023Z

DTSTART:20250119T204000
DTEND:20250119T204000
SUMMARY:Grand Prix Suzuky
DESCRIPTION:Okruh Suzuka je závodní okruh, který se nachází v Japonsku ve městě Suzuka, které leží asi 80 km jihozápadně od Nagoji. Od roku 1987 se zde pravidelně pořádá Grand Prix Japonska Formule 1, pouze v letech 2007 a 2008 se závod přesunul na okruh do Fudži.\nOkruh začíná úsekem zvaným esíčka, což je kombinace několika pravých a levých zatáček, která je jezdecky velice náročná a klíčová pro dosažení dobrého času. Po průjezdu vracečkou se jezdci dostávají do úseku zvaného Spoon (lžíce). Za ním následuje rovinka, která je ukončená zatáčkou 130R. Tato zatáčka je velmi rychlá, jezdí se téměř na plný plyn. Její název plyne z poloměru této zatáčky (tj. 130 metrů). V této zatáčce se stalo již několik vážných havárií, např. Allan McNish v roce 2002 s vozem Toyota nebo několik haváriíí v roce 2009 při návratu okruhu do seriálu F1.

X-ALT-DESC;FMTTYPE=text/html:<!DOCTYPE HTML PUBLIC "-//W3C//DTD HTML 3.2//EN">\n<HTML>\n<HEAD>\n<META NAME="Generator" CONTENT="MS Exchange Server version 08.00.0681.000">\n<TITLE></TITLE>\n</HEAD>\n<BODY>\n<!-- Converted from text/rtf format -->\n\n<p>Okruh Suzuka je závodní okruh, který se nachází v Japonsku ve městě Suzuka, které leží asi 80 km jihozápadně od Nagoji. Od roku 1987 se zde pravidelně pořádá Grand Prix Japonska Formule 1, pouze v letech 2007 a 2008 se závod přesunul na okruh do Fudži.</p><br /><p>Okruh začíná úsekem zvaným esíčka, což je kombinace několika pravých a levých zatáček, která je jezdecky velice náročná a klíčová pro dosažení dobrého času. Po průjezdu vracečkou se jezdci dostávají do úseku zvaného Spoon (lžíce). Za ním následuje rovinka, která je ukončená zatáčkou 130R. Tato zatáčka je velmi rychlá, jezdí se téměř na plný plyn. Její název plyne z poloměru této zatáčky (tj. 130 metrů). V této zatáčce se stalo již několik vážných havárií, např. Allan McNish v roce 2002 s vozem Toyota nebo několik haváriíí v roce 2009 při návratu okruhu do seriálu F1.</p>\n\n</BODY>\n</HTML>

LOCATION:
END:VEVENT

END:VCALENDAR
