BEGIN:VCALENDAR
VERSION:2.0
PRODID:-//hacksw/handcal//NONSGML v1.0//EN
BEGIN:VEVENT
UID:3ddb3e958aa61ad0aebbe371cda2e6ec
DTSTAMP:20260421T153023Z

DTSTART:20250202T204000
DTEND:20250202T204000
SUMMARY:Grand Prix Abu Dhabí
DESCRIPTION:Grand Prix Abú Zabí je jedním ze závodů mistrovství světa vozů Formule 1, pořádané Mezinárodní automobilovou federací. Místem konání je trať Yas Marina v emirátu Abú Zabí ve Spojených arabských emirátech. Velká cena Abú Zabí ( arabsky : سباق جائزة أبوظبي الكبرى ) je závodem Formule 1. To bylo oznámeno na začátku roku 2007 na festivalu F1 v Abu Dhabi ve Spojených arabských emirátech. První závod se konal 1. listopadu 2009 na okruhu Yas Marina, který navrhl Hermann Tilke. Dne 25. června 2008 FIA oznámila předběžný kalendář Formule 1 na rok 2009 včetně Velké ceny Abú Zabí jako posledního závodu sezóny. Dne 5. listopadu 2008 však bylo oznámeno, že závod se bude konat jako finále sezóny 1. listopadu, dva týdny před původně plánovaným datem. Akce se od té doby koná každý rok na okruhu Yas Marina Circuit.

X-ALT-DESC;FMTTYPE=text/html:<!DOCTYPE HTML PUBLIC "-//W3C//DTD HTML 3.2//EN">\n<HTML>\n<HEAD>\n<META NAME="Generator" CONTENT="MS Exchange Server version 08.00.0681.000">\n<TITLE></TITLE>\n</HEAD>\n<BODY>\n<!-- Converted from text/rtf format -->\n\n<p>Grand Prix Abú Zabí je jedním ze závodů mistrovství světa vozů Formule 1, pořádané Mezinárodní automobilovou federací. Místem konání je trať Yas Marina v emirátu Abú Zabí ve Spojených arabských emirátech. Velká cena Abú Zabí ( arabsky : سباق جائزة أبوظبي الكبرى ) je závodem Formule 1. To bylo oznámeno na začátku roku 2007 na festivalu F1 v Abu Dhabi ve Spojených arabských emirátech. První závod se konal 1. listopadu 2009 na okruhu Yas Marina, který navrhl Hermann Tilke. Dne 25. června 2008 FIA oznámila předběžný kalendář Formule 1 na rok 2009 včetně Velké ceny Abú Zabí jako posledního závodu sezóny. Dne 5. listopadu 2008 však bylo oznámeno, že závod se bude konat jako finále sezóny 1. listopadu, dva týdny před původně plánovaným datem. Akce se od té doby koná každý rok na okruhu Yas Marina Circuit.</p>\n\n</BODY>\n</HTML>

LOCATION:
END:VEVENT

END:VCALENDAR
